BEGIN:VCALENDAR
VERSION:2.0
PRODID:-//Labor Community Alliance - ECPv6.15.20//NONSGML v1.0//EN
CALSCALE:GREGORIAN
METHOD:PUBLISH
X-WR-CALNAME:Labor Community Alliance
X-ORIGINAL-URL:https://laborcommunityalliance.org
X-WR-CALDESC:Events for Labor Community Alliance
REFRESH-INTERVAL;VALUE=DURATION:PT1H
X-Robots-Tag:noindex
X-PUBLISHED-TTL:PT1H
BEGIN:VTIMEZONE
TZID:America/New_York
BEGIN:DAYLIGHT
TZOFFSETFROM:-0500
TZOFFSETTO:-0400
TZNAME:EDT
DTSTART:20200308T070000
END:DAYLIGHT
BEGIN:STANDARD
TZOFFSETFROM:-0400
TZOFFSETTO:-0500
TZNAME:EST
DTSTART:20201101T060000
END:STANDARD
BEGIN:DAYLIGHT
TZOFFSETFROM:-0500
TZOFFSETTO:-0400
TZNAME:EDT
DTSTART:20210314T070000
END:DAYLIGHT
BEGIN:STANDARD
TZOFFSETFROM:-0400
TZOFFSETTO:-0500
TZNAME:EST
DTSTART:20211107T060000
END:STANDARD
BEGIN:DAYLIGHT
TZOFFSETFROM:-0500
TZOFFSETTO:-0400
TZNAME:EDT
DTSTART:20220313T070000
END:DAYLIGHT
BEGIN:STANDARD
TZOFFSETFROM:-0400
TZOFFSETTO:-0500
TZNAME:EST
DTSTART:20221106T060000
END:STANDARD
END:VTIMEZONE
BEGIN:VEVENT
DTSTART;TZID=America/New_York:20210417T160000
DTEND;TZID=America/New_York:20210417T173000
DTSTAMP:20260419T123551
CREATED:20210417T014856Z
LAST-MODIFIED:20210417T014856Z
UID:499-1618675200-1618680600@laborcommunityalliance.org
SUMMARY:An LCA Earth Week Forum: How to Avert a Climate Disaster
DESCRIPTION:Winning the Climate battle requires more than merely shouting slogans. This forum gets below the hood and examines the nuts and bolts of getting it done. \nPanelists are: \nScott Montgomery is Professor international Studies University of Washington. He is an author\, geoscientist\, and affiliate faculty member in the Jackson School of International Studies\, University of Washington. He writes and lectures on a wide variety of topics related to energy (geopolitics\, technology\, resources\, climate change)\, American politics\, intellectual history\, language and communication\, and the history of science. He is a frequent contributor to online journals such as The Conversation\, Forbes\, and Fortune\, Newsweek\, Marketwatch\, The Huffington Post\, and UPI \nMeredith Angwin is a retired chemist who headed projects that lowered pollution and increased reliability on the electric grid. Her work included pollution control for nitrogen oxides in gas-fired combustion turbines and corrosion control in geothermal and nuclear systems. \nShe is the author\, whose latest book is Shorting the Grid: The Hidden Fragility of Our Electric Grid. \nGeorge Erickson is a member of the National Center for Science Education\, a past Vice President of the American Humanist Association\, a past President of the Minnesota Humanists. He is the author of Unintended Consequences:: The lie that killed millions and accelerated climate change. \nJoin us for our Earth week critical forum on Bill Gates book\, How to avert a Climate Disaster on Saturday\, April 17th 11AM Pacific time\, 2PM Eastern and 7PM GMT.
URL:https://laborcommunityalliance.org/event/an-lca-earth-week-forum-how-to-avert-a-climate-disaster/
LOCATION:Virtual Forum Zoom
ATTACH;FMTTYPE=image/jpeg:https://laborcommunityalliance.org/wp-content/uploads/2021/04/ClimateForum.jpg
ORGANIZER;CN="Labor Community Alliance":MAILTO:l.canizares@aol.com; jcoa125@aol.com
END:VEVENT
END:VCALENDAR