BEGIN:VCALENDAR
VERSION:2.0
PRODID:-//Labor Community Alliance - ECPv6.15.20//NONSGML v1.0//EN
CALSCALE:GREGORIAN
METHOD:PUBLISH
X-ORIGINAL-URL:https://laborcommunityalliance.org
X-WR-CALDESC:Events for Labor Community Alliance
REFRESH-INTERVAL;VALUE=DURATION:PT1H
X-Robots-Tag:noindex
X-PUBLISHED-TTL:PT1H
BEGIN:VTIMEZONE
TZID:America/New_York
BEGIN:DAYLIGHT
TZOFFSETFROM:-0500
TZOFFSETTO:-0400
TZNAME:EDT
DTSTART:20230312T070000
END:DAYLIGHT
BEGIN:STANDARD
TZOFFSETFROM:-0400
TZOFFSETTO:-0500
TZNAME:EST
DTSTART:20231105T060000
END:STANDARD
BEGIN:DAYLIGHT
TZOFFSETFROM:-0500
TZOFFSETTO:-0400
TZNAME:EDT
DTSTART:20240310T070000
END:DAYLIGHT
BEGIN:STANDARD
TZOFFSETFROM:-0400
TZOFFSETTO:-0500
TZNAME:EST
DTSTART:20241103T060000
END:STANDARD
BEGIN:DAYLIGHT
TZOFFSETFROM:-0500
TZOFFSETTO:-0400
TZNAME:EDT
DTSTART:20250309T070000
END:DAYLIGHT
BEGIN:STANDARD
TZOFFSETFROM:-0400
TZOFFSETTO:-0500
TZNAME:EST
DTSTART:20251102T060000
END:STANDARD
END:VTIMEZONE
BEGIN:VEVENT
DTSTART;TZID=America/New_York:20240527T190000
DTEND;TZID=America/New_York:20240527T203000
DTSTAMP:20260418T075357
CREATED:20240510T121523Z
LAST-MODIFIED:20240516T210304Z
UID:600-1716836400-1716841800@laborcommunityalliance.org
SUMMARY:Palestine: An Issue for Every Worker
DESCRIPTION:Palestine: An Issue for Every Worker Zoom link\nSpeakers from unions and the community will discuss how workers everywhere are impacted by the genocide in Palestine. Many labor unions have called for a ceasefire. What questions do you have for our community and labor leaders? Join us on the 27th for a presentation and questions afterward. Zoom link: https://tinyurl.com/ece2svd4 \n  \n 
URL:https://laborcommunityalliance.org/event/palestine-an-issue-for-every-worker/
LOCATION:Virtual Forum Zoom
ATTACH;FMTTYPE=image/jpeg:https://laborcommunityalliance.org/wp-content/uploads/2024/05/Palestine.jpg
ORGANIZER;CN="Labor Community Alliance":MAILTO:l.canizares@aol.com; jcoa125@aol.com
END:VEVENT
END:VCALENDAR