BEGIN:VCALENDAR
VERSION:2.0
PRODID:-//Labor Community Alliance - ECPv6.15.20//NONSGML v1.0//EN
CALSCALE:GREGORIAN
METHOD:PUBLISH
X-WR-CALNAME:Labor Community Alliance
X-ORIGINAL-URL:https://laborcommunityalliance.org
X-WR-CALDESC:Events for Labor Community Alliance
REFRESH-INTERVAL;VALUE=DURATION:PT1H
X-Robots-Tag:noindex
X-PUBLISHED-TTL:PT1H
BEGIN:VTIMEZONE
TZID:America/New_York
BEGIN:DAYLIGHT
TZOFFSETFROM:-0500
TZOFFSETTO:-0400
TZNAME:EDT
DTSTART:20230312T070000
END:DAYLIGHT
BEGIN:STANDARD
TZOFFSETFROM:-0400
TZOFFSETTO:-0500
TZNAME:EST
DTSTART:20231105T060000
END:STANDARD
BEGIN:DAYLIGHT
TZOFFSETFROM:-0500
TZOFFSETTO:-0400
TZNAME:EDT
DTSTART:20240310T070000
END:DAYLIGHT
BEGIN:STANDARD
TZOFFSETFROM:-0400
TZOFFSETTO:-0500
TZNAME:EST
DTSTART:20241103T060000
END:STANDARD
BEGIN:DAYLIGHT
TZOFFSETFROM:-0500
TZOFFSETTO:-0400
TZNAME:EDT
DTSTART:20250309T070000
END:DAYLIGHT
BEGIN:STANDARD
TZOFFSETFROM:-0400
TZOFFSETTO:-0500
TZNAME:EST
DTSTART:20251102T060000
END:STANDARD
END:VTIMEZONE
BEGIN:VEVENT
DTSTART;TZID=America/New_York:20240729T200000
DTEND;TZID=America/New_York:20240729T213000
DTSTAMP:20260420T102726
CREATED:20240730T190357Z
LAST-MODIFIED:20240730T190357Z
UID:699-1722283200-1722288600@laborcommunityalliance.org
SUMMARY:Florida Speaks Up: Issue-Based Election Forum
DESCRIPTION:Date: July 29\, 2024\nTime: 7:00pm \nEmpower Your Voice Now: \n\nEmpowering Workers: Strengthening Labor Rights and Education\nAffordable Housing Solutions: Creating Homes for Everyone\nInclusive Communities: Advocating for Immigration Rights and Worker Protections\nTransforming Healthcare: Ensuring Affordability and Access for All
URL:https://laborcommunityalliance.org/event/florida-speaks-up-issue-based-election-forum/
LOCATION:Virtual Forum Zoom
ATTACH;FMTTYPE=image/jpeg:https://laborcommunityalliance.org/wp-content/uploads/2024/07/Florida_Speaks_Up_072924.jpg
ORGANIZER;CN="Labor Community Alliance":MAILTO:l.canizares@aol.com; jcoa125@aol.com
END:VEVENT
END:VCALENDAR